BEGIN:VCALENDAR
VERSION:2.0
PRODID:-//wp-events-plugin.com//7.2.3.1//EN
TZID:America/Los_Angeles
X-WR-TIMEZONE:America/Los_Angeles
BEGIN:VEVENT
UID:534@whuuf.net
DTSTART:20260606T023000Z
DTEND:20260606T053000Z
DTSTAMP:20251026T214546Z
URL:https://whuuf.net/events/young-adult-social-night-2025-11-07-2025-12-0
 5-2026-01-02-2026-02-06-2026-03-06-2026-04-03-2026-05-01-2026-06-05/
SUMMARY:Young Adult Social Night
DESCRIPTION:Fun activities with other young adults at WHUUF
ATTACH;FMTTYPE=image/jpeg:https://whuuf.net/wp-content/uploads/2025/08/You
 ng-Adult-Group.png
CATEGORIES:Small Group
LOCATION:WHUUF Forest Hall\, 8470 Southwest Oleson Road\, Portland\, Oregon
 \, 97223\, Washington County\, United States
X-APPLE-STRUCTURED-LOCATION;VALUE=URI;X-ADDRESS=8470 Southwest Oleson Road\
 , Portland\, Oregon\, 97223\, Washington County\, United States;X-APPLE-RA
 DIUS=100;X-TITLE=WHUUF Forest Hall:geo:0,0
END:VEVENT
END:VCALENDAR