BEGIN:VCALENDAR
VERSION:2.0
PRODID:-//wp-events-plugin.com//7.2.3.1//EN
TZID:America/Los_Angeles
X-WR-TIMEZONE:America/Los_Angeles
BEGIN:VEVENT
UID:524@whuuf.net
DTSTART:20260520T023000Z
DTEND:20260520T043000Z
DTSTAMP:20251026T214027Z
URL:https://whuuf.net/events/young-adult-small-group-discussion-2025-11-18
 -2025-12-16-2026-01-20-2026-02-17-2026-03-17-2026-04-21-2026-05-19/
SUMMARY:Young Adult Small Group Discussion
DESCRIPTION:Meet up with other young adults to talk about poetry\, spiritua
 lity\, the big questions.
CATEGORIES:Small Group,Spiritual searching
LOCATION:WHUUF Fireside Room\, 8470 Southwest Oleson Road\, Portland\, OR\,
  97223\, Washington County\, United States
X-APPLE-STRUCTURED-LOCATION;VALUE=URI;X-ADDRESS=8470 Southwest Oleson Road\
 , Portland\, OR\, 97223\, Washington County\, United States;X-APPLE-RADIUS
 =100;X-TITLE=WHUUF Fireside Room:geo:0,0
END:VEVENT
END:VCALENDAR