BEGIN:VCALENDAR
VERSION:2.0
PRODID:-//wp-events-plugin.com//7.2.3.1//EN
TZID:America/Los_Angeles
X-WR-TIMEZONE:America/Los_Angeles
BEGIN:VEVENT
UID:143@whuuf.net
DTSTART:20270620T183000Z
DTEND:20270620T193000Z
DTSTAMP:20250711T194606Z
URL:https://whuuf.net/events/worship-service-2025-07-13-2025-07-20-2025-07
 -27-2025-08-03-2025-08-10-2025-08-17-2025-08-24-2025-08-31-2025-09-07-2025
 -09-14-2025-09-21-2025-09-28-2025-10-05-2025-10-12-2025-10-19-2025-13-2027
 -06-20/
SUMMARY:Worship Service
DESCRIPTION:We gather together in spiritual community because we need const
 ant reminders of what matters most in life. In a world of heartbreak and d
 ehumanization\, our congregations and communities call us to our better se
 lves. We learn to live with more wisdom\, more connection\, and more com
 passion.\n\nOur 10:30 AM Sunday Services are weekly reflections that weav
 e together our own thoughts and experiences with music\, beauty\, poetry\,
  and words that both comfort and challenge.\n\nOn third Sundays\, we gener
 ally donate the basket to an organization that our Social Justice Communit
 y has chosen to support.\n\nYou are also welcome to join us our service vi
 a our YouTube channel: https://www.youtube.com/channel/UCXCXT7V1PvJrSkUZk
 9lc3-w
ATTACH;FMTTYPE=image/jpeg:https://whuuf.net/wp-content/uploads/2015/10/WHU
 UF-wall-hanging-2.jpg
CATEGORIES:Worship Services
LOCATION:WHUUF Sanctuary\, 8470 SW Oleson RD\, Portland\, OR\, 97223\, Unit
 ed States
GEO:45.45807;-122.76267
X-APPLE-STRUCTURED-LOCATION;VALUE=URI;X-ADDRESS=8470 SW Oleson RD\, Portlan
 d\, OR\, 97223\, United States;X-APPLE-RADIUS=100;X-TITLE=WHUUF Sanctuary:
 geo:45.45807,-122.76267
END:VEVENT
END:VCALENDAR