BEGIN:VCALENDAR
VERSION:2.0
PRODID:-//wp-events-plugin.com//7.2.3.1//EN
TZID:America/Los_Angeles
X-WR-TIMEZONE:America/Los_Angeles
BEGIN:VEVENT
UID:183@whuuf.net
DTSTART:20260627T180000Z
DTEND:20260627T200000Z
DTSTAMP:20260221T224338Z
URL:https://whuuf.net/events/whuuf-grounds-monthly-work-party-2026-06-27/
SUMMARY:WHUUF Grounds Monthly Work Party
DESCRIPTION:Monthly work party for making our grounds look awesome
ATTACH;FMTTYPE=image/jpeg:https://whuuf.net/wp-content/uploads/2023/06/gir
 lholdingshoveland-wateringcan.png
CATEGORIES:Supporting WHUUF
LOCATION:WHUUF grounds\, 8470 SW Oleson Rd.\, Portland\, OR\, 97223\, Unite
 d States
X-APPLE-STRUCTURED-LOCATION;VALUE=URI;X-ADDRESS=8470 SW Oleson Rd.\, Portla
 nd\, OR\, 97223\, United States;X-APPLE-RADIUS=100;X-TITLE=WHUUF grounds:g
 eo:0,0
END:VEVENT
END:VCALENDAR