BEGIN:VCALENDAR
VERSION:2.0
PRODID:-//wp-events-plugin.com//7.2.3.1//EN
TZID:America/Los_Angeles
X-WR-TIMEZONE:America/Los_Angeles
BEGIN:VEVENT
UID:537@whuuf.net
DTSTART:20251116T080000Z
DTEND:20251207T080000Z
DTSTAMP:20251107T171253Z
URL:https://whuuf.net/events/whuuf-giving-tree/
SUMMARY:WHUUF Giving Tree
DESCRIPTION:Be a part of an honored WHUUF tradition and help fulfill the ho
 liday wishes of the children of members of Western Farm Workers Associatio
 n!
ATTACH;FMTTYPE=image/jpeg:https://whuuf.net/wp-content/uploads/2025/11/Scr
 eenshot-2025-11-06-at-8.55.52-AM.png
CATEGORIES:Drive
LOCATION:WHUUF Sanctuary\, 8470 SW Oleson RD\, Portland\, OR\, 97223\, Unit
 ed States
GEO:45.45807;-122.76267
X-APPLE-STRUCTURED-LOCATION;VALUE=URI;X-ADDRESS=8470 SW Oleson RD\, Portlan
 d\, OR\, 97223\, United States;X-APPLE-RADIUS=100;X-TITLE=WHUUF Sanctuary:
 geo:45.45807,-122.76267
END:VEVENT
END:VCALENDAR