BEGIN:VCALENDAR
VERSION:2.0
PRODID:-//wp-events-plugin.com//7.2.3.1//EN
TZID:America/Los_Angeles
X-WR-TIMEZONE:America/Los_Angeles
BEGIN:VEVENT
UID:259@whuuf.net
DTSTART:20260516T230000Z
DTEND:20260517T010000Z
DTSTAMP:20250718T213137Z
URL:https://whuuf.net/events/whuuf-craft-circle-2025-07-19-2025-08-16-2025
 -09-20-2025-10-18-2025-11-15-2025-12-20-2026-01-17-2026-02-21-2026-03-21-2
 026-04-18-2026-05-16/
SUMMARY:WHUUF Craft Circle
DESCRIPTION:Enjoy conversation and community while you create.
ATTACH;FMTTYPE=image/jpeg:https://whuuf.net/wp-content/uploads/2024/04/WHU
 UF-Craft-Circle.png
CATEGORIES:Learning,Small Group
LOCATION:The Coffee Room at WHUUF\, 8470 Southwest Oleson Road\, Portland\,
  OR\, 97223\, United States
X-APPLE-STRUCTURED-LOCATION;VALUE=URI;X-ADDRESS=8470 Southwest Oleson Road\
 , Portland\, OR\, 97223\, United States;X-APPLE-RADIUS=100;X-TITLE=The Cof
 fee Room at WHUUF:geo:0,0
END:VEVENT
END:VCALENDAR