BEGIN:VCALENDAR
VERSION:2.0
PRODID:-//wp-events-plugin.com//7.2.3.1//EN
TZID:America/Los_Angeles
X-WR-TIMEZONE:America/Los_Angeles
BEGIN:VEVENT
UID:299@whuuf.net
DTSTART:20261217T213000Z
DTEND:20261217T230000Z
DTSTAMP:20251024T185046Z
URL:https://whuuf.net/events/whuuf-book-group-2-2025-11-20-2025-12-18-2026
 -01-15-2026-02-19-2026-03-19-2026-04-16-2026-05-21-2026-06-18-2026-07-16-2
 026-08-20-2026-09-17-2026-10-15-2026-11-19-2026-12-17/
SUMMARY:WHUUF Book Group
DESCRIPTION:WHUUF Book Group meets on the 3rd Thursday of the month at 1:30
 pm in Forest Hall. You’re welcome to join us for a single meeting when w
 e discuss a book that interests you\, or join us for all meetings.
ATTACH;FMTTYPE=image/jpeg:https://whuuf.net/wp-content/uploads/2022/11/boo
 k-group-image-2.jpg
CATEGORIES:Adults
LOCATION:WHUUF Forest Hall\, 8470 Southwest Oleson Road\, Portland\, Oregon
 \, 97223\, Washington County\, United States
X-APPLE-STRUCTURED-LOCATION;VALUE=URI;X-ADDRESS=8470 Southwest Oleson Road\
 , Portland\, Oregon\, 97223\, Washington County\, United States;X-APPLE-RA
 DIUS=100;X-TITLE=WHUUF Forest Hall:geo:0,0
END:VEVENT
END:VCALENDAR