BEGIN:VCALENDAR
VERSION:2.0
PRODID:-//wp-events-plugin.com//7.2.3.1//EN
TZID:America/Los_Angeles
X-WR-TIMEZONE:America/Los_Angeles
BEGIN:VEVENT
UID:557@whuuf.net
DTSTART:20260904T080000Z
DTEND:20260906T080000Z
DTSTAMP:20260127T002147Z
URL:https://whuuf.net/events/whuuf-annual-family-camp/
SUMMARY:WHUUF Annual Family Camp 2026
DESCRIPTION:Save The Date.... More Details to Come!!!\nIf you would like to
  assist in planning please contact our RE Director: Izzy Hart\n\n
ATTACH;FMTTYPE=image/jpeg:https://whuuf.net/wp-content/uploads/2026/01/sha
 red-image-9.jpeg
CATEGORIES:Family event
END:VEVENT
END:VCALENDAR