BEGIN:VCALENDAR
VERSION:2.0
PRODID:-//wp-events-plugin.com//7.2.3.1//EN
TZID:America/Los_Angeles
X-WR-TIMEZONE:America/Los_Angeles
BEGIN:VEVENT
UID:238@whuuf.net
DTSTART:20260423T180000Z
DTEND:20260423T200000Z
DTSTAMP:20260221T223552Z
URL:https://whuuf.net/events/weekly-grounds-team-sprucing-up-2025-07-17-20
 25-07-24-2025-07-31-2025-08-07-2025-08-14-2025-08-21-2025-08-28-2025-09-04
 -2025-09-11-2025-09-18-2025-09-25-2025-10-02-2025-10-09-2025-10-16-16-2026
 -04-23/
SUMMARY:Weekly Grounds Team Sprucing Up
DESCRIPTION:Help us keep WHUUF's three acre urban forest looking its best.
ATTACH;FMTTYPE=image/jpeg:https://whuuf.net/wp-content/uploads/2023/12/Ali
 sa-Joaquin-grounds-working-e1714600304268.jpeg
CATEGORIES:Supporting WHUUF
LOCATION:WHUUF grounds\, 8470 SW Oleson Rd.\, Portland\, OR\, 97223\, Unite
 d States
X-APPLE-STRUCTURED-LOCATION;VALUE=URI;X-ADDRESS=8470 SW Oleson Rd.\, Portla
 nd\, OR\, 97223\, United States;X-APPLE-RADIUS=100;X-TITLE=WHUUF grounds:g
 eo:0,0
END:VEVENT
END:VCALENDAR