BEGIN:VCALENDAR
VERSION:2.0
PRODID:-//wp-events-plugin.com//7.2.3.1//EN
TZID:America/Los_Angeles
X-WR-TIMEZONE:America/Los_Angeles
BEGIN:VEVENT
UID:386@whuuf.net
DTSTART:20270613T170000Z
DTEND:20270613T180000Z
DTSTAMP:20251024T190320Z
URL:https://whuuf.net/events/weekly-buddhist-sangha-2025-10-26-2025-11-02-
 2025-11-09-2025-11-16-2025-11-23-2025-11-30-2025-12-07-2025-12-14-2025-12-
 21-2025-12-28-2026-01-04-2026-01-11-2026-01-18-2026-01-25-2026-02-0-06-202
 7-06-13/
SUMMARY:Weekly Buddhist Sangha
DESCRIPTION:Meditate and discuss the journey with a like-minded group on Su
 nday mornings.
ATTACH;FMTTYPE=image/jpeg:https://whuuf.net/wp-content/uploads/2022/11/lot
 us-on-water.jpg
CATEGORIES:Adults,Meditation
LOCATION:WHUUF Fireside Room\, 8470 Southwest Oleson Road\, Portland\, OR\,
  97223\, Washington County\, United States
X-APPLE-STRUCTURED-LOCATION;VALUE=URI;X-ADDRESS=8470 Southwest Oleson Road\
 , Portland\, OR\, 97223\, Washington County\, United States;X-APPLE-RADIUS
 =100;X-TITLE=WHUUF Fireside Room:geo:0,0
END:VEVENT
END:VCALENDAR