BEGIN:VCALENDAR
VERSION:2.0
PRODID:-//wp-events-plugin.com//7.2.3.1//EN
TZID:America/Los_Angeles
X-WR-TIMEZONE:America/Los_Angeles
BEGIN:VEVENT
UID:398@whuuf.net
DTSTART:20260621T200000Z
DTEND:20260621T223000Z
DTSTAMP:20251024T191758Z
URL:https://whuuf.net/events/star-wars-movie-lunches-2025-10-19-2025-11-16
 -2025-12-21-2026-01-18-2026-02-15-2026-03-15-2026-04-19-2026-05-17-2026-06
 -21/
SUMMARY:Star Wars Movie Lunches
DESCRIPTION:Join us once a month for Star Wars movie lunches. Bring a sack 
 lunch and cozy up in Forest Hall while we watch all 9 of the main Star War
 s movies in order throughout the year!\n\nMost third Sundays at noon\n\nQu
 estions?
ATTACH;FMTTYPE=image/jpeg:https://whuuf.net/wp-content/uploads/2025/09/Sta
 r-Wars-Movie-Lunches.png
CATEGORIES:Elementary,Youth
LOCATION:WHUUF Forest Hall\, 8470 Southwest Oleson Road\, Portland\, Oregon
 \, 97223\, Washington County\, United States
X-APPLE-STRUCTURED-LOCATION;VALUE=URI;X-ADDRESS=8470 Southwest Oleson Road\
 , Portland\, Oregon\, 97223\, Washington County\, United States;X-APPLE-RA
 DIUS=100;X-TITLE=WHUUF Forest Hall:geo:0,0
END:VEVENT
END:VCALENDAR