BEGIN:VCALENDAR
VERSION:2.0
PRODID:-//wp-events-plugin.com//7.2.3.1//EN
TZID:America/Los_Angeles
X-WR-TIMEZONE:America/Los_Angeles
BEGIN:VEVENT
UID:276@whuuf.net
DTSTART:20251002T213000Z
DTEND:20251003T000000Z
DTSTAMP:20250831T163509Z
URL:https://whuuf.net/events/rise-up-and-call-her-name-afternoon-class-202
 5-10-02/
SUMMARY:Rise Up and Call Her Name: Afternoon Class
DESCRIPTION:A course that weaves together spiritual stories worldwide that 
 honor female divinities. 
CATEGORIES:Adults
LOCATION:WHUUF Forest Hall\, 8470 Southwest Oleson Road\, Portland\, Oregon
 \, 97223\, Washington County\, United States
X-APPLE-STRUCTURED-LOCATION;VALUE=URI;X-ADDRESS=8470 Southwest Oleson Road\
 , Portland\, Oregon\, 97223\, Washington County\, United States;X-APPLE-RA
 DIUS=100;X-TITLE=WHUUF Forest Hall:geo:0,0
END:VEVENT
END:VCALENDAR