BEGIN:VCALENDAR
VERSION:2.0
PRODID:-//wp-events-plugin.com//7.2.3.1//EN
TZID:America/Los_Angeles
X-WR-TIMEZONE:America/Los_Angeles
BEGIN:VEVENT
UID:268@whuuf.net
DTSTART:20251008T023000Z
DTEND:20251008T050000Z
DTSTAMP:20250831T164021Z
URL:https://whuuf.net/events/rise-up-and-call-her-name-2025-10-07/
SUMMARY:Rise Up and Call Her Name
DESCRIPTION:A course that weaves together spiritual stories worldwide that 
 honor female divinities. 
ATTACH;FMTTYPE=image/jpeg:https://whuuf.net/wp-content/uploads/2025/08/god
 dess-icon-rise-up.jpg
CATEGORIES:Adults
LOCATION:WHUUF Forest Hall\, 8470 Southwest Oleson Road\, Portland\, Oregon
 \, 97223\, Washington County\, United States
X-APPLE-STRUCTURED-LOCATION;VALUE=URI;X-ADDRESS=8470 Southwest Oleson Road\
 , Portland\, Oregon\, 97223\, Washington County\, United States;X-APPLE-RA
 DIUS=100;X-TITLE=WHUUF Forest Hall:geo:0,0
END:VEVENT
END:VCALENDAR