BEGIN:VCALENDAR
VERSION:2.0
PRODID:-//wp-events-plugin.com//7.2.3.1//EN
TZID:America/Los_Angeles
X-WR-TIMEZONE:America/Los_Angeles
BEGIN:VEVENT
UID:582@whuuf.net
DTSTART:20260418T220000Z
DTEND:20260419T010000Z
DTSTAMP:20260402T145730Z
URL:https://whuuf.net/events/oil-cold-wax-painting-workshop-with-mary-tull
 /
SUMMARY:Oil & Cold Wax Painting Workshop with Mary Tull
DESCRIPTION:
END:VEVENT
END:VCALENDAR