BEGIN:VCALENDAR
VERSION:2.0
PRODID:-//wp-events-plugin.com//7.2.3.1//EN
TZID:America/Los_Angeles
X-WR-TIMEZONE:America/Los_Angeles
BEGIN:VEVENT
UID:553@whuuf.net
DTSTART:20261004T020000Z
DTEND:20261004T040000Z
DTSTAMP:20260127T000543Z
URL:https://whuuf.net/events/family-dinner-chalice-circles-4/
SUMMARY:Family Dinner Chalice Circles
DESCRIPTION:Come and eat with fellow parents and talk about main themes of 
 the month. Childcare is often provided.
ATTACH;FMTTYPE=image/jpeg:https://whuuf.net/wp-content/uploads/2026/01/sha
 red-image-9.jpeg
CATEGORIES:Family event
END:VEVENT
END:VCALENDAR