BEGIN:VCALENDAR
VERSION:2.0
PRODID:-//wp-events-plugin.com//7.2.3.1//EN
TZID:America/Los_Angeles
X-WR-TIMEZONE:America/Los_Angeles
BEGIN:VEVENT
UID:406@whuuf.net
DTSTART:20260510T010000Z
DTEND:20260510T030000Z
DTSTAMP:20251024T201958Z
URL:https://whuuf.net/events/family-dinner-chalice-circles-2025-12-13-2026
 -01-10-2026-02-14-2026-03-14-2026-04-11-2026-05-09/
SUMMARY:Family Dinner Chalice Circles
DESCRIPTION:Come and eat with fellow parents and talk about main themes of 
 the month. Childcare is often provided.
ATTACH;FMTTYPE=image/jpeg:https://whuuf.net/wp-content/uploads/2023/06/fam
 ilydinnerclipart.png
CATEGORIES:Family event
LOCATION:The Coffee Room at WHUUF\, 8470 Southwest Oleson Road\, Portland\,
  OR\, 97223\, United States
X-APPLE-STRUCTURED-LOCATION;VALUE=URI;X-ADDRESS=8470 Southwest Oleson Road\
 , Portland\, OR\, 97223\, United States;X-APPLE-RADIUS=100;X-TITLE=The Cof
 fee Room at WHUUF:geo:0,0
END:VEVENT
END:VCALENDAR