BEGIN:VCALENDAR
VERSION:2.0
PRODID:-//wp-events-plugin.com//7.2.3.1//EN
TZID:America/Los_Angeles
X-WR-TIMEZONE:America/Los_Angeles
BEGIN:VEVENT
UID:416@whuuf.net
DTSTART:20260602T030000Z
DTEND:20260602T043000Z
DTSTAMP:20251024T205327Z
URL:https://whuuf.net/events/evening-womens-group-2025-11-03-2025-12-01-20
 26-01-05-2026-02-02-2026-03-02-2026-04-06-2026-05-04-2026-06-01/
SUMMARY:Evening Women's Group
DESCRIPTION:We will use the monthly worship themes (the topics addressed in
  our Sunday services and Chalice Circles) as we connect with each other an
 d explore how we can live more fully into our values.
ATTACH;FMTTYPE=image/jpeg:https://whuuf.net/wp-content/uploads/2023/03/Scr
 eenshot-2023-03-29-at-12.40.08-PM.png
CATEGORIES:Adults,Women/Femme
LOCATION:WHUUF - The Oak Room\, 8470 Southwest Oleson Road\, Portland\, OR\
 , 97223\, Washington County\, United States
X-APPLE-STRUCTURED-LOCATION;VALUE=URI;X-ADDRESS=8470 Southwest Oleson Road\
 , Portland\, OR\, 97223\, Washington County\, United States;X-APPLE-RADIUS
 =100;X-TITLE=WHUUF - The Oak Room:geo:0,0
END:VEVENT
END:VCALENDAR