BEGIN:VCALENDAR
VERSION:2.0
PRODID:-//wp-events-plugin.com//7.2.3.1//EN
TZID:America/Los_Angeles
X-WR-TIMEZONE:America/Los_Angeles
BEGIN:VEVENT
UID:482@whuuf.net
DTSTART:20260825T030000Z
DTEND:20260825T043000Z
DTSTAMP:20251024T212607Z
URL:https://whuuf.net/events/evening-mens-group-2-2025-10-27-2025-11-24-20
 25-12-22-2026-01-26-2026-02-23-2026-03-23-2026-04-27-2026-05-25-2026-06-22
 -2026-07-27-2026-08-24/
SUMMARY:Evening Men's Group
DESCRIPTION:We meet on the 2nd and 4th Mondays of each month from 7 - 8:30p
 .m. in the Coffee Room\n\nWe will use the monthly worship themes (the topi
 cs addressed in our Sunday services and Chalice Circles) as we connect wit
 h each other and explore how we can live more fully into our values. We wi
 ll take turns facilitating the meetings\, and include a short centering m
 editation. Service is a part of our activities as well as potential outsid
 e experiences (hiking\, games)\n\nIf you identify as a man\, please join u
 s!\n\nMore info:  \nUwe Neitzel
ATTACH;FMTTYPE=image/jpeg:https://whuuf.net/wp-content/uploads/2023/12/Eve
 ning-Mens-Group.png
CATEGORIES:Men/Masc,Small Group
LOCATION:The Coffee Room at WHUUF\, 8470 Southwest Oleson Road\, Portland\,
  OR\, 97223\, United States
X-APPLE-STRUCTURED-LOCATION;VALUE=URI;X-ADDRESS=8470 Southwest Oleson Road\
 , Portland\, OR\, 97223\, United States;X-APPLE-RADIUS=100;X-TITLE=The Cof
 fee Room at WHUUF:geo:0,0
END:VEVENT
END:VCALENDAR