BEGIN:VCALENDAR
VERSION:2.0
PRODID:-//wp-events-plugin.com//7.2.3.1//EN
TZID:America/Los_Angeles
X-WR-TIMEZONE:America/Los_Angeles
BEGIN:VEVENT
UID:439@whuuf.net
DTSTART:20261111T180000Z
DTEND:20261111T200000Z
DTSTAMP:20251024T211519Z
URL:https://whuuf.net/events/daytime-womens-group-2025-11-12-2025-12-10-20
 26-01-14-2026-02-11-2026-03-11-2026-04-08-2026-05-13-2026-06-10-2026-07-08
 -2026-08-12-2026-09-09-2026-10-14-2026-11-11/
SUMMARY:Daytime Women's Group
DESCRIPTION:A gathering each month on 2nd and 4th Wednesdays for women of o
 ur community. For more information\, contact Linda Towers
ATTACH;FMTTYPE=image/jpeg:https://whuuf.net/wp-content/uploads/2020/12/Wom
 ens-Gathering.png
CATEGORIES:Small Group,Women/Femme
LOCATION:The Coffee Room at WHUUF\, 8470 Southwest Oleson Road\, Portland\,
  OR\, 97223\, United States
X-APPLE-STRUCTURED-LOCATION;VALUE=URI;X-ADDRESS=8470 Southwest Oleson Road\
 , Portland\, OR\, 97223\, United States;X-APPLE-RADIUS=100;X-TITLE=The Cof
 fee Room at WHUUF:geo:0,0
END:VEVENT
END:VCALENDAR