BEGIN:VCALENDAR
VERSION:2.0
PRODID:-//wp-events-plugin.com//7.2.3.1//EN
TZID:America/Los_Angeles
X-WR-TIMEZONE:America/Los_Angeles
BEGIN:VEVENT
UID:451@whuuf.net
DTSTART:20260826T180000Z
DTEND:20260826T200000Z
DTSTAMP:20251024T211802Z
URL:https://whuuf.net/events/daytime-womens-group-2-2025-11-26-2025-12-24-
 2026-01-28-2026-02-25-2026-03-25-2026-04-22-2026-05-27-2026-06-24-2026-07-
 22-2026-08-26/
SUMMARY:Daytime Women's Group
DESCRIPTION:A gathering each month on 2nd and 4th Wednesdays for women of o
 ur community. For more information\, contact Linda Towers
ATTACH;FMTTYPE=image/jpeg:https://whuuf.net/wp-content/uploads/2020/12/Wom
 ens-Gathering.png
CATEGORIES:Small Group,Women/Femme
LOCATION:The Coffee Room at WHUUF\, 8470 Southwest Oleson Road\, Portland\,
  OR\, 97223\, United States
X-APPLE-STRUCTURED-LOCATION;VALUE=URI;X-ADDRESS=8470 Southwest Oleson Road\
 , Portland\, OR\, 97223\, United States;X-APPLE-RADIUS=100;X-TITLE=The Cof
 fee Room at WHUUF:geo:0,0
END:VEVENT
END:VCALENDAR