BEGIN:VCALENDAR
VERSION:2.0
PRODID:-//wp-events-plugin.com//7.2.3.1//EN
TZID:America/Los_Angeles
X-WR-TIMEZONE:America/Los_Angeles
BEGIN:VEVENT
UID:513@whuuf.net
DTSTART:20260916T193000Z
DTEND:20260916T210000Z
DTSTAMP:20251024T213308Z
URL:https://whuuf.net/events/daytime-mens-group-2-2025-11-19-2025-12-17-20
 26-01-21-2026-02-18-2026-03-18-2026-04-15-2026-05-20-2026-06-17-2026-07-15
 -2026-08-19-2026-09-16/
SUMMARY:Daytime Men's Group
DESCRIPTION:The Men’s Group is open to new members\, and meets at 11:30am
  on the first and third Wednesdays of the month.\nContact Bob McArthur or 
 Craig Towers with questions.
ATTACH;FMTTYPE=image/jpeg:https://whuuf.net/wp-content/uploads/2023/07/Men
 s-Group-Clip-Art.png
CATEGORIES:Men/Masc,Small Group
LOCATION:The Coffee Room at WHUUF\, 8470 Southwest Oleson Road\, Portland\,
  OR\, 97223\, United States
X-APPLE-STRUCTURED-LOCATION;VALUE=URI;X-ADDRESS=8470 Southwest Oleson Road\
 , Portland\, OR\, 97223\, United States;X-APPLE-RADIUS=100;X-TITLE=The Cof
 fee Room at WHUUF:geo:0,0
END:VEVENT
END:VCALENDAR